BEGIN:VCALENDAR
VERSION:2.0
PRODID:-//Umrah+ Connect - ECPv6.15.20//NONSGML v1.0//EN
CALSCALE:GREGORIAN
METHOD:PUBLISH
X-ORIGINAL-URL:https://umrahconnect.org
X-WR-CALDESC:Events for Umrah+ Connect
REFRESH-INTERVAL;VALUE=DURATION:PT1H
X-Robots-Tag:noindex
X-PUBLISHED-TTL:PT1H
BEGIN:VTIMEZONE
TZID:Europe/London
BEGIN:DAYLIGHT
TZOFFSETFROM:+0000
TZOFFSETTO:+0100
TZNAME:BST
DTSTART:20210328T010000
END:DAYLIGHT
BEGIN:STANDARD
TZOFFSETFROM:+0100
TZOFFSETTO:+0000
TZNAME:GMT
DTSTART:20211031T010000
END:STANDARD
BEGIN:DAYLIGHT
TZOFFSETFROM:+0000
TZOFFSETTO:+0100
TZNAME:BST
DTSTART:20220327T010000
END:DAYLIGHT
BEGIN:STANDARD
TZOFFSETFROM:+0100
TZOFFSETTO:+0000
TZNAME:GMT
DTSTART:20221030T010000
END:STANDARD
BEGIN:DAYLIGHT
TZOFFSETFROM:+0000
TZOFFSETTO:+0100
TZNAME:BST
DTSTART:20230326T010000
END:DAYLIGHT
BEGIN:STANDARD
TZOFFSETFROM:+0100
TZOFFSETTO:+0000
TZNAME:GMT
DTSTART:20231029T010000
END:STANDARD
BEGIN:DAYLIGHT
TZOFFSETFROM:+0000
TZOFFSETTO:+0100
TZNAME:BST
DTSTART:20240331T010000
END:DAYLIGHT
BEGIN:STANDARD
TZOFFSETFROM:+0100
TZOFFSETTO:+0000
TZNAME:GMT
DTSTART:20241027T010000
END:STANDARD
BEGIN:DAYLIGHT
TZOFFSETFROM:+0000
TZOFFSETTO:+0100
TZNAME:BST
DTSTART:20250330T010000
END:DAYLIGHT
BEGIN:STANDARD
TZOFFSETFROM:+0100
TZOFFSETTO:+0000
TZNAME:GMT
DTSTART:20251026T010000
END:STANDARD
END:VTIMEZONE
BEGIN:VEVENT
DTSTART;TZID=Europe/London:20241104T150000
DTEND;TZID=Europe/London:20241104T223000
DTSTAMP:20260422T124102
CREATED:20240820T210251Z
LAST-MODIFIED:20240820T210453Z
UID:11980-1730732400-1730759400@umrahconnect.org
SUMMARY:Umrah+ Connect 2024
DESCRIPTION:Registration Now Open to the much anticipated 4th Edition of Umrah+ Connect B2B Travel & Tourism trade event in London on Monday 4th November 2024.  Register Now!
URL:https://umrahconnect.org/event/umrah-connect-2024
CATEGORIES:B2B Event
ATTACH;FMTTYPE=image/jpeg:https://umrahconnect.org/wp-content/uploads/2024/08/UC2024-Register-Now.jpg
END:VEVENT
BEGIN:VEVENT
DTSTART;TZID=Europe/London:20240422T100000
DTEND;TZID=Europe/London:20240424T160000
DTSTAMP:20260422T124102
CREATED:20240327T223243Z
LAST-MODIFIED:20240327T223402Z
UID:11899-1713780000-1713974400@umrahconnect.org
SUMMARY:Umrah & Ziyarah Forum
DESCRIPTION:Umrah & Ziyarah Conference & Exhibition 2024\nThe Umrah and Ziyarah Forum is the premier international platform committed to achieving the Kingdom’s Vision 2030 goals. It aims to offer a world-class journey of faith and hospitality\, ensuring pilgrims worldwide leave with lasting memories. This event will bring together key leaders\, decision-makers\, experts\, investors\, and innovators from various fields related to Umrah and Ziyarah. Additionally\, it will feature significant participation from leading organizations\, authorities\, and dynamic companies both from within the Kingdom and abroad. \n\nThe Conference\nAn international conference featuring an array of round Tables\, focus groups\, workshops\, and training seminars led by distinguished decision-makers\, experts\, academics\, and researchers. This event is graced by authorities from both the government & private sector\, and entities from both private and public companies operating in the Umrah and Ziyarah sector. \n\nExhibition & Sponsorship\nThe forum serves as a dynamic platform for dialogue and sharing knowledge and experiences\, encompassing conference sessions\, panel discussions\, and interactive workshops. The associated exhibition will also highlight the latest services\, innovative\, and eco-friendly solutions designed to drive ongoing progress and improvements. The forum also tackles the sector’s challenges\, opportunities\, and rising trends\, providing essential insights and advice to enhance the pilgrims’ and visitors’ experiences and to support the facilitation of visitors to the Two Holy Mosques.
URL:https://umrahconnect.org/event/umrah-ziyarah-forum
CATEGORIES:B2B Event
ATTACH;FMTTYPE=image/jpeg:https://umrahconnect.org/wp-content/uploads/2024/03/UC-UZF24.jpg
END:VEVENT
BEGIN:VEVENT
DTSTART;TZID=Europe/London:20231105T123000
DTEND;TZID=Europe/London:20231105T223000
DTSTAMP:20260422T124102
CREATED:20230801T203537Z
LAST-MODIFIED:20230801T204006Z
UID:10886-1699187400-1699223400@umrahconnect.org
SUMMARY:Umrah+ Connect 2023
DESCRIPTION:Registration to the much anticipated Umrah travel market opens soon. \nTo receive an invitation to register or enquire about exhibiting / sponsoring the event email: info@umrahconnect.org \nEvent will take place on the eve of the World Travel Market on Sunday 5th November 2023 in central London.
URL:https://umrahconnect.org/event/umrah-connect-2023
END:VEVENT
BEGIN:VEVENT
DTSTART;TZID=Europe/London:20230309T110000
DTEND;TZID=Europe/London:20230309T120000
DTSTAMP:20260422T124102
CREATED:20230801T203433Z
LAST-MODIFIED:20230801T203433Z
UID:10884-1678359600-1678363200@umrahconnect.org
SUMMARY:ITB Berlin 2023
DESCRIPTION:Meet us at ITB Berlin 7-9 March 2023\n\n\n\n\n\n\n\n\n\n\n\n\nThe Umrah+ Connect team will be at ITB Berlin to meet our partners and develop new. \nConnect with us on the Visit Saudi & Nusuk Pavilion  7th – 9th March in Hall 3.2B\, Stand 203. \n\nNusuk Seminar Invitation \nIn coordination with\, and on behalf of Nusuk\, the unified platform for Makkah and Madina\, we have the pleasure to invite our valued trade partners to come and learn more about Umrah and Ziyarah at a special seminar on: \nDate: Thursday 9th March \nTime: 11am-12pm \nLocation: Nusuk Saudi Pavilion\,\nITB Berlin\,\nHall 3.2B\,\nStand 203.
URL:https://umrahconnect.org/event/itb-berlin-2023
LOCATION:ITB Berlin\, Messedamm 22\, Berlin\, 14055 Berlin\, Germany
CATEGORIES:B2B Event
END:VEVENT
BEGIN:VEVENT
DTSTART;TZID=Europe/London:20221106T120000
DTEND;TZID=Europe/London:20221106T230000
DTSTAMP:20260422T124102
CREATED:20230801T201724Z
LAST-MODIFIED:20230801T202036Z
UID:10875-1667736000-1667775600@umrahconnect.org
SUMMARY:Umrah+ Connect 2022
DESCRIPTION:Umrah Connect 2022 in association with Nusuk
URL:https://umrahconnect.org/event/umrah-connect-2022
LOCATION:JW Marriott Grosvenor House London\, 86-90 Park Ln\,\, London\, W1K 7TN\, United Kingdom
CATEGORIES:B2B Event
END:VEVENT
END:VCALENDAR